BEGIN:VCALENDAR
VERSION:2.0
PRODID:-//Bonnie Bogner - ECPv6.15.20//NONSGML v1.0//EN
CALSCALE:GREGORIAN
METHOD:PUBLISH
X-ORIGINAL-URL:https://www.soulvibrations.ca
X-WR-CALDESC:Events for Bonnie Bogner
REFRESH-INTERVAL;VALUE=DURATION:PT1H
X-Robots-Tag:noindex
X-PUBLISHED-TTL:PT1H
BEGIN:VTIMEZONE
TZID:America/Vancouver
BEGIN:DAYLIGHT
TZOFFSETFROM:-0800
TZOFFSETTO:-0700
TZNAME:PDT
DTSTART:20250309T100000
END:DAYLIGHT
BEGIN:STANDARD
TZOFFSETFROM:-0700
TZOFFSETTO:-0800
TZNAME:PST
DTSTART:20251102T090000
END:STANDARD
BEGIN:DAYLIGHT
TZOFFSETFROM:-0800
TZOFFSETTO:-0700
TZNAME:PDT
DTSTART:20260308T100000
END:DAYLIGHT
BEGIN:STANDARD
TZOFFSETFROM:-0700
TZOFFSETTO:-0800
TZNAME:PST
DTSTART:20261101T090000
END:STANDARD
BEGIN:DAYLIGHT
TZOFFSETFROM:-0800
TZOFFSETTO:-0700
TZNAME:PDT
DTSTART:20270314T100000
END:DAYLIGHT
BEGIN:STANDARD
TZOFFSETFROM:-0700
TZOFFSETTO:-0800
TZNAME:PST
DTSTART:20271107T090000
END:STANDARD
END:VTIMEZONE
BEGIN:VEVENT
DTSTART;TZID=America/Vancouver:20260113T170000
DTEND;TZID=America/Vancouver:20260505T190000
DTSTAMP:20260423T112911
CREATED:20210714T002106Z
LAST-MODIFIED:20260103T232153Z
UID:4678-1768323600-1778007600@www.soulvibrations.ca
SUMMARY:Galactic Conversations Channelling
DESCRIPTION:JANUARY 2026 Registration is now CLOSED! Class is full.\nClasses run January 13 – May 5\, 2026\nTuesdays 5:00 – 7:00 pm PST\nWant to learn more about me\, the class and the Galactic Council?\nFree Intro to Channel call December 18th 5:00-6:30 pm PT REGISTRATION LINK \nBONUS for anyone who registers for the class prior to December 30th\, 2025 receive\na complimentary 6-month Circle of Light membership (value $250+)  \nGalactic Conversations will empower you with the skills to go beyond intuition and the patience to allow it to unfold naturally. Meet me in the virtual classroom to open your sacred line of communication.  \nAre you ready to join the Galactic Council and me for this amazing adventure into the multidimensional? You will be glad you did! \n \nHave you been tapped on the shoulder by Spirit? Maybe had that feeling that there is someone just waiting to talk to you or through you? Or wondered if you could or should channel? \nOur world is rapidly evolving into a place where we will all become our own channel\, but that can’t happen without understanding and accepting what that is\, and how to bring the messages through. \nThis shift requires leaders ~ like you! \nDo any of these describe you and your feelings? \n\nWho me? Channel? I can’t do this!\nWhy would they choose me?\nWhat will people think?\nDo I really have what it takes?\nWhat if I get it wrong?\nI must be crazy to feel this way.\nHow awesome if I could!\nMaybe I already am? I am not sure what channel even is.\nI am feeling isolated in my channel practice\, and so wish I had a community to support and guide me.\n\nIf you can relate to one or more of these\, this class is for you! Still not sure?  Contact me for your complimentary 1:1 conversation to explore if this is the right fit for you. \nTotal of 16 weeks of class time\, including teaching modules\, channels from the Galactic Council\, guided practice and 1:1 practice with my support. PLUS you become a Galactic Conversations member for life!
URL:https://www.soulvibrations.ca/event/galactic-conversations-channelling-2/
LOCATION:Online
CATEGORIES:public event,school of light
ATTACH;FMTTYPE=image/png:https://www.soulvibrations.ca/wp-content/uploads/2020/05/Galactic-Conversations-NEW-e1612823858479.png
ORGANIZER;CN="Soul Vibrations - Bonnie Bogner":MAILTO:bonnie@soulvibrations.ca
END:VEVENT
BEGIN:VEVENT
DTSTART;TZID=America/Vancouver:20260410T190000
DTEND;TZID=America/Vancouver:20260410T210000
DTSTAMP:20260423T112911
CREATED:20251208T234620Z
LAST-MODIFIED:20260319T220845Z
UID:5257-1775847600-1775854800@www.soulvibrations.ca
SUMMARY:Spiritual Community Gathering
DESCRIPTION:Come for the wisdom; stay for the community… \nA monthly community event hosted by Bonnie Bogner & the Galactic Council. You will be welcomed into the space with conversation and delicious herbal teas. Some months will have a theme\, others will be more conversational or Q&A. Always the opportunity to ask questions\, and every voice matters. Each gathering begins with a welcome and brief meditation to ground into the space. Come to share wisdom\, connection\, spiritual exploration\, and community. \nAt our first gathering\, someone referred to the group as her ‘Family of Frequency\,’ and I think that is a very good description of what we are creating. \n1316 Esquimalt Rd\, Victoria BC\n2nd Friday of each month\n7:00 – 9:00 pm \n2026 DATES: January 9; February 13; March 13; April 10; May 8; June 12;July 10; August 7; September 11; October 9; November 13; December 11 \nRSVP Bonnie. Email: bonnie@soulvibrations.ca or Text: 306-530-2089\nBy donation to cover room rental (suggested $15-25 – but if this creates hardship please donate as you are able). \nActivity Suggestions: Guided Meditation\, Q&A\, Channel from Galactic Council\, Intuitive Guidance\, Cards and Conversation. \n  \n 
URL:https://www.soulvibrations.ca/event/spiritual-community-gathering-2/
LOCATION:Errant Empire\, 1316 Esquimalt Rd\, Victoria\, BC\, Canada
ATTACH;FMTTYPE=image/png:https://www.soulvibrations.ca/wp-content/uploads/2025/11/Community-Gathering-cropped.png
ORGANIZER;CN="Soul Vibrations - Bonnie Bogner":MAILTO:bonnie@soulvibrations.ca
END:VEVENT
END:VCALENDAR