BEGIN:VCALENDAR
VERSION:2.0
PRODID:-//Bonnie Bogner - ECPv6.15.20//NONSGML v1.0//EN
CALSCALE:GREGORIAN
METHOD:PUBLISH
X-WR-CALNAME:Bonnie Bogner
X-ORIGINAL-URL:https://www.soulvibrations.ca
X-WR-CALDESC:Events for Bonnie Bogner
REFRESH-INTERVAL;VALUE=DURATION:PT1H
X-Robots-Tag:noindex
X-PUBLISHED-TTL:PT1H
BEGIN:VTIMEZONE
TZID:America/Vancouver
BEGIN:DAYLIGHT
TZOFFSETFROM:-0800
TZOFFSETTO:-0700
TZNAME:PDT
DTSTART:20250309T100000
END:DAYLIGHT
BEGIN:STANDARD
TZOFFSETFROM:-0700
TZOFFSETTO:-0800
TZNAME:PST
DTSTART:20251102T090000
END:STANDARD
BEGIN:DAYLIGHT
TZOFFSETFROM:-0800
TZOFFSETTO:-0700
TZNAME:PDT
DTSTART:20260308T100000
END:DAYLIGHT
BEGIN:STANDARD
TZOFFSETFROM:-0700
TZOFFSETTO:-0800
TZNAME:PST
DTSTART:20261101T090000
END:STANDARD
BEGIN:DAYLIGHT
TZOFFSETFROM:-0800
TZOFFSETTO:-0700
TZNAME:PDT
DTSTART:20270314T100000
END:DAYLIGHT
BEGIN:STANDARD
TZOFFSETFROM:-0700
TZOFFSETTO:-0800
TZNAME:PST
DTSTART:20271107T090000
END:STANDARD
END:VTIMEZONE
BEGIN:VEVENT
DTSTART;TZID=America/Vancouver:20260419T170000
DTEND;TZID=America/Vancouver:20260419T190000
DTSTAMP:20260423T110524
CREATED:20210909T210227Z
LAST-MODIFIED:20260402T171553Z
UID:4716-1776618000-1776625200@www.soulvibrations.ca
SUMMARY:Benevolent Messages from Beyond
DESCRIPTION:What a fantastic opportunity for you to ask your questions and receive channelled answers\, as well as hear the information provided for the questions asked by others\, which may also be perfect for you. Questions may be of a personal or more global nature. We will answer as many questions as we can in the allotted two hours. My experience to date is that most people are able to ask one question and receive a 5-7 minute answer\, with the small possibility of asking a second one at the end of the event. \nWe will be guided and supported in the Q&A process by my sister and event coordinator\, Laurie Bogner. The event will be on Zoom\, and registration includes an audio replay. Seating is limited\, so please register early. \nHow to Secure Your Spot\nMake your payment by e-transfer to laurie@soulvibrations.ca with Benevolent Messages in the description\, include your email address in the comments\, or send a separate message with it so we can send you the link (we cannot send you the link if we do not have your email). The suggested donation is $25-50\, but any amount is acceptable. Please pay what you can and feel comfortable with\, based on the value you are receiving. We will not turn you away if the suggested financial contribution is an issue. A confirmation email will be sent upon completion of payment\, and the event link will be provided on the day of the event. THE DEADLINE TO REGISTER IS 2 PM PT ON SUNDAY\, APRIL 19TH.  Anyone registering past that time may receive the replay after the event is complete and not have the opportunity to ask any live questions. \nGalactic Council Circle of Light members will automatically receive the link. No need to register. \nWho is the Galactic Council?\nThe Galactic Council is an intergalactic group of kind and loving non-physical entities who have experienced the process of ascension and are now assisting the inhabitants of Earth as we move through these times of tremendous transformation. One of their prime directives is to guide and assist those who desire assistance\, but not interfere with our personal journey of awakening. They respect our need to stumble and explore as we go\, knowing that is how we learn and grow. They are happy to respond to questions and provide guidance\, as opposed to telling us what to do. \nI channel the Pleiadian/Lemurian aspect of the Galactic Council through my higher self\, who identifies self as Ye’Yesh Ye’Yar. I have been working with the Galactic Council for about 16 years now\, and my relationship with them continues to deepen with each passing year. They speak through me in English as well as Light Language\, which includes tones\, sounds and symbols. \nHow to Ask Questions \nWe will answer as many questions as we can in the allotted time\, so we cannot guarantee all will be addressed. If you have many personal questions\, you may wish to consider a private session rather than this public event. \nThere are three ways to ask your questions: \n1) Once you are registered for the event\, send an email to Laurie at laurie@soulvibrations.ca with your query. We may consolidate similar questions and answer them together. These questions may be presented on the call as anonymous if you prefer\, but this may affect the decoding of the energy\, as your name carries an energy signature which creates some of the templates for the message. \n2) During the live event\, raise your hand and verbalize your question when Laurie indicates it is your turn. We do ask that these exchanges be kept to the question and not your story. \n3) During the event\, send a chat message directly to Laurie\, and she will read it aloud. Again\, these questions may be anonymous if you prefer. \n\nPlease note – any questions presented as anonymous cannot be followed up privately by Bonnie\, as she will not have any frame of reference from the channel.
URL:https://www.soulvibrations.ca/event/benevolent-messages/
LOCATION:Online
CATEGORIES:public event,school of light
ATTACH;FMTTYPE=image/png:https://www.soulvibrations.ca/wp-content/uploads/2021/07/Bene-Msgs.png
ORGANIZER;CN="Soul Vibrations - Bonnie Bogner":MAILTO:bonnie@soulvibrations.ca
END:VEVENT
END:VCALENDAR