BEGIN:VCALENDAR
VERSION:2.0
PRODID:-//Bonnie Bogner - ECPv6.15.20//NONSGML v1.0//EN
CALSCALE:GREGORIAN
METHOD:PUBLISH
X-ORIGINAL-URL:https://www.soulvibrations.ca
X-WR-CALDESC:Events for Bonnie Bogner
REFRESH-INTERVAL;VALUE=DURATION:PT1H
X-Robots-Tag:noindex
X-PUBLISHED-TTL:PT1H
BEGIN:VTIMEZONE
TZID:America/Vancouver
BEGIN:DAYLIGHT
TZOFFSETFROM:-0800
TZOFFSETTO:-0700
TZNAME:PDT
DTSTART:20220313T100000
END:DAYLIGHT
BEGIN:STANDARD
TZOFFSETFROM:-0700
TZOFFSETTO:-0800
TZNAME:PST
DTSTART:20221106T090000
END:STANDARD
BEGIN:DAYLIGHT
TZOFFSETFROM:-0800
TZOFFSETTO:-0700
TZNAME:PDT
DTSTART:20230312T100000
END:DAYLIGHT
BEGIN:STANDARD
TZOFFSETFROM:-0700
TZOFFSETTO:-0800
TZNAME:PST
DTSTART:20231105T090000
END:STANDARD
BEGIN:DAYLIGHT
TZOFFSETFROM:-0800
TZOFFSETTO:-0700
TZNAME:PDT
DTSTART:20240310T100000
END:DAYLIGHT
BEGIN:STANDARD
TZOFFSETFROM:-0700
TZOFFSETTO:-0800
TZNAME:PST
DTSTART:20241103T090000
END:STANDARD
BEGIN:DAYLIGHT
TZOFFSETFROM:-0800
TZOFFSETTO:-0700
TZNAME:PDT
DTSTART:20250309T100000
END:DAYLIGHT
BEGIN:STANDARD
TZOFFSETFROM:-0700
TZOFFSETTO:-0800
TZNAME:PST
DTSTART:20251102T090000
END:STANDARD
BEGIN:DAYLIGHT
TZOFFSETFROM:-0800
TZOFFSETTO:-0700
TZNAME:PDT
DTSTART:20260308T100000
END:DAYLIGHT
BEGIN:STANDARD
TZOFFSETFROM:-0700
TZOFFSETTO:-0800
TZNAME:PST
DTSTART:20261101T090000
END:STANDARD
BEGIN:DAYLIGHT
TZOFFSETFROM:-0800
TZOFFSETTO:-0700
TZNAME:PDT
DTSTART:20270314T100000
END:DAYLIGHT
BEGIN:STANDARD
TZOFFSETFROM:-0700
TZOFFSETTO:-0800
TZNAME:PST
DTSTART:20271107T090000
END:STANDARD
END:VTIMEZONE
BEGIN:VTIMEZONE
TZID:UTC
BEGIN:STANDARD
TZOFFSETFROM:+0000
TZOFFSETTO:+0000
TZNAME:UTC
DTSTART:20190101T000000
END:STANDARD
END:VTIMEZONE
BEGIN:VEVENT
DTSTART;TZID=America/Vancouver:20260107T170000
DTEND;TZID=America/Vancouver:20260107T183000
DTSTAMP:20260423T123417
CREATED:20240103T030940Z
LAST-MODIFIED:20251227T042319Z
UID:5078-1767805200-1767810600@www.soulvibrations.ca
SUMMARY:What to Expect for 2026
DESCRIPTION:January 7\, 2026\n5:00 – 6:30 pm PST\nPlease use https://www.worldtimebuddy.com to confirm your local time. \nThis ‘What to Expect’ complimentary event has become an annual tradition for the Galactic Council and myself. I look forward to sharing the energy and messages with each one of you. Please take a moment to sign up for our live event\, plus receive the full audio replay the following day. \nWe are living in truly exceptional times! Even as the world appears to be falling apart before our eyes; is it realty? Or are non-beneficial things dropping away so we can find our authentic heart and create a completely new experience. \nSome of the themes we will delve into are: \n\nthe importance of doing things you love\nletting go of judgement (aka don’t believe the fear mongering)\nclosing of the energy of 2025 an 9-year (2+0+2+5) – Completion!\nopening of the energy of 2026 a 1-year (2+0+2+6 = 10; 1+0 = 1) – Beginning!\nquantum shifting and new timelines\nletting go of expectations – creating from the void\ncommunity is the cornerstone\n\nREGISTER HERE\nCircle of Light Members will automatically receive link.
URL:https://www.soulvibrations.ca/event/what-to-expect-for-the-year/
LOCATION:Online
CATEGORIES:free event,public event
ATTACH;FMTTYPE=image/png:https://www.soulvibrations.ca/wp-content/uploads/2025/12/2026.png
ORGANIZER;CN="Soul Vibrations - Bonnie Bogner":MAILTO:bonnie@soulvibrations.ca
END:VEVENT
BEGIN:VEVENT
DTSTART;TZID=America/Vancouver:20251228T170000
DTEND;TZID=America/Vancouver:20251228T183000
DTSTAMP:20260423T123417
CREATED:20251209T000734Z
LAST-MODIFIED:20251227T030039Z
UID:5260-1766941200-1766946600@www.soulvibrations.ca
SUMMARY:Introduction to Channel
DESCRIPTION:NEW DATE – moved to December 28th at 5:00 pm PT – full replay\nIf you wish to speak with me about it sooner than that\, please reach out for a complimentary 1:1 chat.\nThis is a free event to introduce you to the Galactic Conversations channel class\, which will empower you with the skills to go beyond intuition and the patience to allow it to unfold naturally.\nIf you think Galactic Conversations may be for you\, this is the perfect intro to learn more about channel\, me and the Galactic Council. I hope you can join us for this complimentary event to explore what the class is all about. Even if you can’t join the live call\, sign up and receive the replay.\nI will speak about my journey into channelling\, why I created this class\, take some questions and provide a live channel from the Galactic Council. Plus\, we may be joined by a few of my previous students to talk about their class experience as well as what they are now doing with their channel skills. If you might wish to channel\, this is a ‘not to be missed’ event!\nOnly four new channelers are accepted into the Galactic Conversations class each time. Is one of those spots yours? This is a small and personal group\, dedicated to developing their skills as a channel. Once you have completed the class\, you are welcome to return as an audit to learn more\, practice\, support others and be supported. We have become a family where everyone is safe to be who they are and develop at their own pace.\nSign Up Here\nOr you can immediately go to the Galactic Conversations Class Page and register for the class.\nhttps://soul-vibrations.thinkific.com/courses/galactic-conversations
URL:https://www.soulvibrations.ca/event/introduction-to-channel/
CATEGORIES:free event,public event,school of light
ATTACH;FMTTYPE=image/png:https://www.soulvibrations.ca/wp-content/uploads/2023/02/intr-to-channel3.png
ORGANIZER;CN="Soul Vibrations - Bonnie Bogner":MAILTO:bonnie@soulvibrations.ca
END:VEVENT
BEGIN:VEVENT
DTSTART;TZID=America/Vancouver:20251106T080000
DTEND;TZID=America/Vancouver:20251106T170000
DTSTAMP:20260423T123417
CREATED:20251106T225432Z
LAST-MODIFIED:20251106T225706Z
UID:5226-1762416000-1762448400@www.soulvibrations.ca
SUMMARY:Spiritual Community Gathering
DESCRIPTION:Come for the wisdom; stay for the community…\nHosted by Bonnie Bogner & the Galactic Council. We will begin each gathering with a spiritual activity\, then round out the evening with tea and social time. Over time we will allow this group to shape itself depending upon the group and what is most supportive.  \nI (Bonnie) have spent years hosting classes\, groups and retreats. One of the things I hear most often is the desire for community. Let’s see what we can create! \nPossible Activities: Guided Meditation\, Q&A\, Channel from Galactic Council\, Intuitive Guidance\, Cards and Convo. \n2nd Wednesday of each month\nErrant Empire\n1316 Esquimalt Rd\n7:00 – 9:00 pm\nby donation \nplease drop me a message at bonnie@soulvibrations.ca to let me know you plan to attend \nNovember 12\, 2025\nDecember 10\, 2025\nJanuary 14\, 2026\nFebruary 14\, 2026\nMarch 13\, 2026\nApril 9\, 2026
URL:https://www.soulvibrations.ca/event/spiritual-community-gathering/
CATEGORIES:free event,public event,school of light,Vancouver Island
ATTACH;FMTTYPE=image/png:https://www.soulvibrations.ca/wp-content/uploads/2025/11/Community-Gathering-cropped.png
END:VEVENT
BEGIN:VEVENT
DTSTART;TZID=America/Vancouver:20250426T100000
DTEND;TZID=America/Vancouver:20250426T110000
DTSTAMP:20260423T123417
CREATED:20250402T173716Z
LAST-MODIFIED:20250408T193243Z
UID:5168-1745661600-1745665200@www.soulvibrations.ca
SUMMARY:Island Net of Light - Empowerment
DESCRIPTION:A sacred calling and invitation…\n“Each of you who takes part in it will not only benefit the Net of Light\, but will increase her or his own capacity for light. …You will become a nexus of radiance…”\nThe Great Council of the Grandmothers. \nPrior to my move to Vancouver Island is 2021 I began to have visions of a group gathering to support the island and Mother Earth through community and ceremony. It was a sacred calling\, and I knew that it could only be fulfilled by a move to the island. I knew I was part of bringing it to life\, but it was not ‘mine’. Once I arrived here\, I watched and waited for what this might be. And now the Universe has begun to orchestrate this sacred calling by bringing together Sara Baker\, Soul Communicator & Tao Song Master Practitioner; Lydia Maes\, Tao Light Wall Practitioner and myself all feeling the call to be in service to the planet and specifically to our Island home\, to create this opportunity to all Island Lightworkers who feel drawn. \nOn April 26th we are offering an opportunity to be a part of re-activating the Net of Light\, the Feminine Principle\, the Power of Yin\, on our beautiful Island\, and in turn\, our planet. Event will take place as an online empowerment into the Net of Light with founder Sharon McErland and The Grandmothers. When activated\, this Empowerment creates a direct connection from your heart to the Net of Light embedded deep within Mother Earth\, wherever you are\, helping to restore the energy imbalance of yin and yang now present on our planet. \nRegister for your Complimentary Net of Light Empowerment \nAll subsequent gatherings will be IN PERSON on Vancouver Island\, so you need to be on the island to take part. \nHere is a brief intro video regarding the work https://vimeo.com/215456155 \nNote: In order to better understand the Net of Light and the Empowerment that you will receive you are asked to read at least one of Sharon McErlane’s books. All books can be found on Amazon\, here is her most recent: https://www.amazon.ca/Return-Mother-Love…/dp/1737490307 \nWith Love and Light\,\nSara\, Lydia and Bonnie\nCo-founders\, Island Net of Light \nIsland Net of Light
URL:https://www.soulvibrations.ca/event/island-net-of-light-empowerment/
LOCATION:Online
CATEGORIES:free event,public event,Vancouver Island
ATTACH;FMTTYPE=image/png:https://www.soulvibrations.ca/wp-content/uploads/2025/04/Net-of-Light-Banner.png
END:VEVENT
BEGIN:VEVENT
DTSTART;TZID=America/Vancouver:20250125T100000
DTEND;TZID=America/Vancouver:20250125T110000
DTSTAMP:20260423T123417
CREATED:20241210T002815Z
LAST-MODIFIED:20250118T213952Z
UID:5135-1737799200-1737802800@www.soulvibrations.ca
SUMMARY:Cosmic Shift Intention Setting
DESCRIPTION:Join me for this potent Intention Setting as we experience a potent planetary lineup. Some astrologers are calling this a rare Planetary Alignment\, others are saying it is all just hype\, nothing special is happening. The Galactic Council indicated to me it was a good time to set intentions for 2025\, so that is what we will do. Complimentary online event with full replay. Register below to save your spot and receive the replay. \nWhen I first saw Robert Edward Grant post a video about the January 25th Planetary Alignment\, I immediately got the hit that I needed to offer a Cosmic Shift event on that day. As I researched I was able to find very little solid info about why this date was significant astrologically or astronomically\, but the Council was clear that we needed to offer our Cosmic Shift Intention Setting. What I have been able to assertain from their guidance is that this day is indeed a Planetary Alignment of sorts and the significance is the closing of one door and opening of another. A New Years Eve/New Years Day sort of energy. \nI am not going to try to quote astrological significance as that is not my speciality\, but here is what I know energetically that makes this an important day to set intentions. \n\nWe are in a significant time of completion and new beginnings; I started feeling that in December\, and that was actually our Circle of Light topic that month.\nIt is time for us to get serious about setting intentions for what we want to see in the world\, rather than looking out at what is and reacting.\nWe are at a Nexus Point or a convergence that is creating an opportunity for New Beginnings.\nIt is time to shine our light more brightly and serve the world in the awaking of humanity.\nWe are entering a space age\, including AI\, the question is ‘Whose in control?’ Again\, this comes back out our need to be intentional about being in control of our own destiny.\nWe are being invited to look at the relationships in our lives\, are they helping us to shine more brightly or dimming us down?\n\nThe best information I have found astrologically to corrolate with my guidance has been a video by Jain 108 which I am linking here for your reference.\nhttps://youtu.be/usN6TURtJtk?si=PC3qzS2nfQarBJn9 \nFull disclosure\, I had to watch it 3-4 times and finally on slow speed with transcript turned on I was able to connect my dots to his! \nIf you want to be part of creating change rather than waiting for it\nREGISTER HERE\n https://Cosmic-shift-intention-setting.eventbrite.ca
URL:https://www.soulvibrations.ca/event/cosmic-shift-intention-setting/
LOCATION:Online
CATEGORIES:free event,public event,school of light
ATTACH;FMTTYPE=image/png:https://www.soulvibrations.ca/wp-content/uploads/2024/12/Cosmic-Shift-2025.png
ORGANIZER;CN="Soul Vibrations - Bonnie Bogner":MAILTO:bonnie@soulvibrations.ca
END:VEVENT
BEGIN:VEVENT
DTSTART;TZID=America/Vancouver:20250107T170000
DTEND;TZID=America/Vancouver:20250107T183000
DTSTAMP:20260423T123417
CREATED:20230203T151137Z
LAST-MODIFIED:20241217T182203Z
UID:4847-1736269200-1736274600@www.soulvibrations.ca
SUMMARY:Intro to Channel - Free Event
DESCRIPTION:This is a free event to introduce you to the Galactic Conversations channel class and help you determine if it and I are the right fit for you. Galactic Conversations empowers you with the skills to go beyond intuition\, and the patience to allow it to unfold naturally. Over the years we have also created a beautiful and supportive channel community. \n\nIf you think Galactic Conversations may be for you\, this is the perfect introduction to learn more about channel\, myself and the Galactic Council. I hope you can join us for this complimentary event to ask your questions and explore what the class is all about. Sign up and receive the replay even if you can’t join the live call.\n\nI will provide an overview of the class\, speak about my journey into channel and why I was asked to create this class. There will also be some time for your questions and a live channel from the Galactic Council. Plus we will be joined by a few of my previous students to talk about their class experience as well as what they are now doing with their channel skills. If you think you are ready to channel\, this is a ‘not to be missed’ event!\n\nRegister for Intro to Channel\n\nUse this direct link to the Soul Vibrations School of Light to learn more about\nthe class content or to register for Galactic Conversations
URL:https://www.soulvibrations.ca/event/intro-to-channel-free-event/
LOCATION:Online
CATEGORIES:free event,public event,school of light
ATTACH;FMTTYPE=image/png:https://www.soulvibrations.ca/wp-content/uploads/2023/02/intr-to-channel3.png
ORGANIZER;CN="Soul Vibrations - Bonnie Bogner":MAILTO:bonnie@soulvibrations.ca
END:VEVENT
BEGIN:VEVENT
DTSTART;VALUE=DATE:20231010
DTEND;VALUE=DATE:20231021
DTSTAMP:20260423T123417
CREATED:20230927T003456Z
LAST-MODIFIED:20231010T205658Z
UID:4998-1696896000-1697846399@www.soulvibrations.ca
SUMMARY:Holistic Health Concierge Summit
DESCRIPTION:We all want to be in control of our health\, yet sometimes we feel disconnected and powerless. I’m thrilled to announce that I’ll be participating as a speaker at The Holistic Health Concierge Summit\, a unique event that aims to change that narrative. \nIntroducing the Hosts   \nRosetta Matthews brings a wealth of knowledge to her practice. She provides a unique combination of wellness and career coaching\, allowing her to support you not only in achieving optimal health but also in pursuing your life aspirations. Guided by compassion and expertise\, Rosetta is dedicated to helping you thrive in all aspects of your life. \nBailey Bakaluk provides a nurturing environment to support you on your journey. She is dedicated to promoting health &  wellness and is passionate about the holistic approach\, where emotional\, mental and spiritual well-being align with the physical. \nI personally will be speaking about Empowerment & Sovereignty! \nWhat’s the Event About?   \nThe Holistic Health Concierge Summit aims to help you move from survival mode to a state of thriving. If you’ve ever felt disempowered on your health journey\, this is the chance to regain your footing and explore the multitude of wellness options available to you. \nJoin Us for Free   \nI invite you to take the first step towards taking control of your health and join us at this transformative event. Registration is absolutely free. \nReserve Your Seat \nhttps://theholistichealthconcierge.com/bonniebogner \nI’m eager to share this experience with you. \nMeet the experts!\n \nDay 1 Deanna Hansen: Expert on Fascia decompression. \nDay 2 Roxanne Harris: Audacious Living\nDay 3 Shauna Mildred: Nutrition and Movement\nDay 4 Karen Smith: Expert on releasing trapped emotions \nDay 5 Paul Weisbart: The Power of Still Point\nDay 6 Iain Kemp: A New Approach to Physical Therapy \nDay 7 Bonnie Bogner: Mindset and Empowerment Expert\nDay 8 Andre MacNair: Your Guide to Osteopathy\nDay 9 Jacqui Aitken and Verena White: Discover Life-Changing Strategies\nDay 10 Joelle Bremault: Learn about the power of Integrative Health practices. \n\nReserve Your Seat \nhttps://theholistichealthconcierge.com/bonniebogner
URL:https://www.soulvibrations.ca/event/holistic-health-concierge-summit/
CATEGORIES:free event,public event
ATTACH;FMTTYPE=image/png:https://www.soulvibrations.ca/wp-content/uploads/2023/09/Bonnie-Bogner.png
END:VEVENT
BEGIN:VEVENT
DTSTART;TZID=UTC:20200903T190000
DTEND;TZID=UTC:20200903T203000
DTSTAMP:20260423T123417
CREATED:20200822T030729Z
LAST-MODIFIED:20200822T031357Z
UID:4616-1599159600-1599165000@www.soulvibrations.ca
SUMMARY:Introduction to Intuition
DESCRIPTION:Have you been feeling like there is something more? Or maybe you have a vague awareness and would like to hone your skills? If you have a desire to develop your intuition or wish to have greater trust in your guidance\, this free introductory evening is for you!\nWe will chat about types of intuition and oracle cards. Plus I will offer a brief card reading to three lucky people.\nI (Bonnie) have been working in the field of intuition and energy healing for over fifteen years and have transformed the lives of thousands of people through private sessions and classes. \nGet Your Free Access Here\n 
URL:https://www.soulvibrations.ca/event/introduction-to-intuition/
LOCATION:Online
CATEGORIES:free event,public event,school of light
ATTACH;FMTTYPE=image/png:https://www.soulvibrations.ca/wp-content/uploads/2020/08/INTRODUCTION-to-Intuition-cropped-e1598040803992.png
ORGANIZER;CN="Soul Vibrations - Bonnie Bogner":MAILTO:bonnie@soulvibrations.ca
END:VEVENT
END:VCALENDAR