BEGIN:VCALENDAR
VERSION:2.0
PRODID:-//Bonnie Bogner - ECPv6.15.20//NONSGML v1.0//EN
CALSCALE:GREGORIAN
METHOD:PUBLISH
X-WR-CALNAME:Bonnie Bogner
X-ORIGINAL-URL:https://www.soulvibrations.ca
X-WR-CALDESC:Events for Bonnie Bogner
REFRESH-INTERVAL;VALUE=DURATION:PT1H
X-Robots-Tag:noindex
X-PUBLISHED-TTL:PT1H
BEGIN:VTIMEZONE
TZID:America/Vancouver
BEGIN:DAYLIGHT
TZOFFSETFROM:-0800
TZOFFSETTO:-0700
TZNAME:PDT
DTSTART:20240310T100000
END:DAYLIGHT
BEGIN:STANDARD
TZOFFSETFROM:-0700
TZOFFSETTO:-0800
TZNAME:PST
DTSTART:20241103T090000
END:STANDARD
BEGIN:DAYLIGHT
TZOFFSETFROM:-0800
TZOFFSETTO:-0700
TZNAME:PDT
DTSTART:20250309T100000
END:DAYLIGHT
BEGIN:STANDARD
TZOFFSETFROM:-0700
TZOFFSETTO:-0800
TZNAME:PST
DTSTART:20251102T090000
END:STANDARD
BEGIN:DAYLIGHT
TZOFFSETFROM:-0800
TZOFFSETTO:-0700
TZNAME:PDT
DTSTART:20260308T100000
END:DAYLIGHT
BEGIN:STANDARD
TZOFFSETFROM:-0700
TZOFFSETTO:-0800
TZNAME:PST
DTSTART:20261101T090000
END:STANDARD
END:VTIMEZONE
BEGIN:VEVENT
DTSTART;TZID=America/Vancouver:20250107T170000
DTEND;TZID=America/Vancouver:20250107T183000
DTSTAMP:20260424T142440
CREATED:20230203T151137Z
LAST-MODIFIED:20241217T182203Z
UID:4847-1736269200-1736274600@www.soulvibrations.ca
SUMMARY:Intro to Channel - Free Event
DESCRIPTION:This is a free event to introduce you to the Galactic Conversations channel class and help you determine if it and I are the right fit for you. Galactic Conversations empowers you with the skills to go beyond intuition\, and the patience to allow it to unfold naturally. Over the years we have also created a beautiful and supportive channel community. \n\nIf you think Galactic Conversations may be for you\, this is the perfect introduction to learn more about channel\, myself and the Galactic Council. I hope you can join us for this complimentary event to ask your questions and explore what the class is all about. Sign up and receive the replay even if you can’t join the live call.\n\nI will provide an overview of the class\, speak about my journey into channel and why I was asked to create this class. There will also be some time for your questions and a live channel from the Galactic Council. Plus we will be joined by a few of my previous students to talk about their class experience as well as what they are now doing with their channel skills. If you think you are ready to channel\, this is a ‘not to be missed’ event!\n\nRegister for Intro to Channel\n\nUse this direct link to the Soul Vibrations School of Light to learn more about\nthe class content or to register for Galactic Conversations
URL:https://www.soulvibrations.ca/event/intro-to-channel-free-event/
LOCATION:Online
CATEGORIES:free event,public event,school of light
ATTACH;FMTTYPE=image/png:https://www.soulvibrations.ca/wp-content/uploads/2023/02/intr-to-channel3.png
ORGANIZER;CN="Soul Vibrations - Bonnie Bogner":MAILTO:bonnie@soulvibrations.ca
END:VEVENT
END:VCALENDAR